BEGIN:VCALENDAR
VERSION:2.0
PRODID:-//wp-events-plugin.com//7.1.7//EN
TZID:Europe/Prague
X-WR-TIMEZONE:Europe/Prague
BEGIN:VEVENT
UID:132@zspohorelice.cz
DTSTART;TZID=Europe/Prague:20240215T075500
DTEND;TZID=Europe/Prague:20240215T113000
DTSTAMP:20240209T103731Z
URL:https://zspohorelice.cz/events/zdrava-vyziva-projektovy-den-1-b/
SUMMARY:Zdravá výživa (projektový den 1.B)
DESCRIPTION:
END:VEVENT
BEGIN:VTIMEZONE
TZID:Europe/Prague
X-LIC-LOCATION:Europe/Prague
BEGIN:STANDARD
DTSTART:20231029T020000
TZOFFSETFROM:+0200
TZOFFSETTO:+0100
TZNAME:CET
END:STANDARD
END:VTIMEZONE
END:VCALENDAR