BEGIN:VCALENDAR
VERSION:2.0
PRODID:-//wp-events-plugin.com//7.1.7//EN
TZID:Europe/Prague
X-WR-TIMEZONE:Europe/Prague
BEGIN:VEVENT
UID:256@zspohorelice.cz
DTSTART;TZID=Europe/Prague;VALUE=DATE:20240606
DTEND;TZID=Europe/Prague;VALUE=DATE:20240607
DTSTAMP:20240510T123706Z
URL:https://zspohorelice.cz/events/vlastivedna-exkurze-pasohlavky-0-rocnik
 y/
SUMMARY:Vlastivědná exkurze Pasohlávky - 0. ročníky
DESCRIPTION:
END:VEVENT
BEGIN:VTIMEZONE
TZID:Europe/Prague
X-LIC-LOCATION:Europe/Prague
BEGIN:DAYLIGHT
DTSTART:20240331T030000
TZOFFSETFROM:+0100
TZOFFSETTO:+0200
TZNAME:CEST
END:DAYLIGHT
END:VTIMEZONE
END:VCALENDAR