BEGIN:VCALENDAR
VERSION:2.0
PRODID:-//wp-events-plugin.com//7.1.7//EN
TZID:Europe/Prague
X-WR-TIMEZONE:Europe/Prague
BEGIN:VEVENT
UID:421@zspohorelice.cz
DTSTART;TZID=Europe/Prague:20250228T130000
DTEND;TZID=Europe/Prague:20250228T150000
DTSTAMP:20250203T133120Z
URL:https://zspohorelice.cz/events/turnaj-vybijena-akce-sd-pro-2-a-3-rocni
 k/
SUMMARY:Turnaj vybíjená (akce ŠD pro 2. a 3. ročník)
DESCRIPTION:
END:VEVENT
BEGIN:VTIMEZONE
TZID:Europe/Prague
X-LIC-LOCATION:Europe/Prague
BEGIN:STANDARD
DTSTART:20241027T020000
TZOFFSETFROM:+0200
TZOFFSETTO:+0100
TZNAME:CET
END:STANDARD
END:VTIMEZONE
END:VCALENDAR