BEGIN:VCALENDAR
VERSION:2.0
PRODID:-//wp-events-plugin.com//7.1.7//EN
TZID:Europe/Prague
X-WR-TIMEZONE:Europe/Prague
BEGIN:VEVENT
UID:137@zspohorelice.cz
DTSTART;TZID=Europe/Prague:20240221T134500
DTEND;TZID=Europe/Prague:20240221T150000
DTSTAMP:20240219T074116Z
URL:https://zspohorelice.cz/events/recitacni-soutez-2-stupen/
SUMMARY:Recitační soutěž 2. stupeň
DESCRIPTION:
END:VEVENT
BEGIN:VTIMEZONE
TZID:Europe/Prague
X-LIC-LOCATION:Europe/Prague
BEGIN:STANDARD
DTSTART:20231029T020000
TZOFFSETFROM:+0200
TZOFFSETTO:+0100
TZNAME:CET
END:STANDARD
END:VTIMEZONE
END:VCALENDAR