BEGIN:VCALENDAR
VERSION:2.0
PRODID:-//wp-events-plugin.com//7.1.7//EN
TZID:Europe/Prague
X-WR-TIMEZONE:Europe/Prague
BEGIN:VEVENT
UID:713@zspohorelice.cz
DTSTART;TZID=Europe/Prague;VALUE=DATE:20260227
DTEND;TZID=Europe/Prague;VALUE=DATE:20260228
DTSTAMP:20260205T142638Z
URL:https://zspohorelice.cz/events/planetarium-brno-1-f-2-f-3-f-4-f-ms-pas
 ohlavky/
SUMMARY:Planetárium Brno (1. F\, 2. F\, 3. F\, 4. F + MŠ Pasohlávky)
DESCRIPTION:
END:VEVENT
BEGIN:VTIMEZONE
TZID:Europe/Prague
X-LIC-LOCATION:Europe/Prague
BEGIN:STANDARD
DTSTART:20251026T020000
TZOFFSETFROM:+0200
TZOFFSETTO:+0100
TZNAME:CET
END:STANDARD
END:VTIMEZONE
END:VCALENDAR