BEGIN:VCALENDAR
VERSION:2.0
PRODID:-//wp-events-plugin.com//7.1.7//EN
TZID:Europe/Prague
X-WR-TIMEZONE:Europe/Prague
BEGIN:VEVENT
UID:65@zspohorelice.cz
DTSTART;TZID=Europe/Prague:20231110T095000
DTEND;TZID=Europe/Prague:20231110T113000
DTSTAMP:20231102T134101Z
URL:https://zspohorelice.cz/events/knihovna-4-a/
SUMMARY:Knihovna - 4. A
DESCRIPTION:
END:VEVENT
BEGIN:VTIMEZONE
TZID:Europe/Prague
X-LIC-LOCATION:Europe/Prague
BEGIN:STANDARD
DTSTART:20231029T020000
TZOFFSETFROM:+0200
TZOFFSETTO:+0100
TZNAME:CET
END:STANDARD
END:VTIMEZONE
END:VCALENDAR