BEGIN:VCALENDAR
VERSION:2.0
PRODID:-//wp-events-plugin.com//7.1.7//EN
TZID:Europe/Prague
X-WR-TIMEZONE:Europe/Prague
BEGIN:VEVENT
UID:469@zspohorelice.cz
DTSTART;TZID=Europe/Prague:20250403T153000
DTEND;TZID=Europe/Prague:20250403T170000
DTSTAMP:20250402T095240Z
URL:https://zspohorelice.cz/events/jarni-tvoreni-s-rodici-pasohlavky-2/
SUMMARY:Jarní tvoření s rodiči (Pasohlávky)
DESCRIPTION:
END:VEVENT
BEGIN:VTIMEZONE
TZID:Europe/Prague
X-LIC-LOCATION:Europe/Prague
BEGIN:DAYLIGHT
DTSTART:20250330T030000
TZOFFSETFROM:+0100
TZOFFSETTO:+0200
TZNAME:CEST
END:DAYLIGHT
END:VTIMEZONE
END:VCALENDAR