BEGIN:VCALENDAR
VERSION:2.0
PRODID:-//wp-events-plugin.com//7.1.7//EN
TZID:Europe/Prague
X-WR-TIMEZONE:Europe/Prague
BEGIN:VEVENT
UID:4@zspohorelice.cz
DTSTART;TZID=Europe/Prague:20230914T080000
DTEND;TZID=Europe/Prague:20230914T120000
DTSTAMP:20230914T060053Z
URL:https://zspohorelice.cz/events/dopravni-vychova-4-a/
SUMMARY:Dopravní výchova 4. A
DESCRIPTION:
END:VEVENT
BEGIN:VTIMEZONE
TZID:Europe/Prague
X-LIC-LOCATION:Europe/Prague
BEGIN:DAYLIGHT
DTSTART:20230326T030000
TZOFFSETFROM:+0100
TZOFFSETTO:+0200
TZNAME:CEST
END:DAYLIGHT
END:VTIMEZONE
END:VCALENDAR