BEGIN:VCALENDAR
VERSION:2.0
PRODID:-//wp-events-plugin.com//7.1.7//EN
TZID:Europe/Prague
X-WR-TIMEZONE:Europe/Prague
BEGIN:VEVENT
UID:488@zspohorelice.cz
DTSTART;TZID=Europe/Prague;VALUE=DATE:20250422
DTEND;TZID=Europe/Prague;VALUE=DATE:20250423
DTSTAMP:20250402T100029Z
URL:https://zspohorelice.cz/events/den-v-lese-projektove-vyucovani-0-rocni
 k/
SUMMARY:Den v lese (projektové vyučování 0. ročník)
DESCRIPTION:
END:VEVENT
BEGIN:VTIMEZONE
TZID:Europe/Prague
X-LIC-LOCATION:Europe/Prague
BEGIN:DAYLIGHT
DTSTART:20250330T030000
TZOFFSETFROM:+0100
TZOFFSETTO:+0200
TZNAME:CEST
END:DAYLIGHT
END:VTIMEZONE
END:VCALENDAR