BEGIN:VCALENDAR
VERSION:2.0
PRODID:-//wp-events-plugin.com//7.1.7//EN
TZID:Europe/Prague
X-WR-TIMEZONE:Europe/Prague
BEGIN:VEVENT
UID:37@zspohorelice.cz
DTSTART;TZID=Europe/Prague:20231020T075500
DTEND;TZID=Europe/Prague:20231020T093500
DTSTAMP:20231008T115438Z
URL:https://zspohorelice.cz/events/cestina-v-pohybu-projektove-vyucovani-3
 -rocniky/
SUMMARY:Čeština v pohybu - projektové vyučování 3. ročníky
DESCRIPTION:
END:VEVENT
BEGIN:VTIMEZONE
TZID:Europe/Prague
X-LIC-LOCATION:Europe/Prague
BEGIN:DAYLIGHT
DTSTART:20230326T030000
TZOFFSETFROM:+0100
TZOFFSETTO:+0200
TZNAME:CEST
END:DAYLIGHT
END:VTIMEZONE
END:VCALENDAR