BEGIN:VCALENDAR
VERSION:2.0
PRODID:-//wp-events-plugin.com//7.1.7//EN
TZID:Europe/Prague
X-WR-TIMEZONE:Europe/Prague
BEGIN:VEVENT
UID:244@zspohorelice.cz
DTSTART;TZID=Europe/Prague:20240524T114000
DTEND;TZID=Europe/Prague:20240524T122500
DTSTAMP:20240510T122724Z
URL:https://zspohorelice.cz/events/beseda-o-zivote-vodicich-psu-a-zivote-b
 ez-zraku-3-b/
SUMMARY:Beseda o životě vodicích psů a životě bez zraku - 3. B
DESCRIPTION:
END:VEVENT
BEGIN:VTIMEZONE
TZID:Europe/Prague
X-LIC-LOCATION:Europe/Prague
BEGIN:DAYLIGHT
DTSTART:20240331T030000
TZOFFSETFROM:+0100
TZOFFSETTO:+0200
TZNAME:CEST
END:DAYLIGHT
END:VTIMEZONE
END:VCALENDAR